BEGIN:VCALENDAR
VERSION:2.0
PRODID:SchoolNow
CALSCALE:GREGORIAN
BEGIN:VEVENT
UID:ffc98794-c733-11f0-9700-0a58a9feac02
DTSTAMP:20251121T234419Z
SUMMARY:Open House
URL;VALUE=URI:https://www.kippsocal.org/scholar/calendar/8807692/open-house
DTSTART:20251104T233000Z
DTEND:20251105T003000Z
END:VEVENT
END:VCALENDAR
