BEGIN:VCALENDAR
VERSION:2.0
PRODID:SchoolNow
CALSCALE:GREGORIAN
BEGIN:VEVENT
UID:7cc1846a-b4fe-11f0-bb23-0a58a9feac02
DTSTAMP:20251029T193555Z
SUMMARY:Weekly School Tour
URL;VALUE=URI:https://www.kippsocal.org/scholar/calendar/8760099/weekly-sch
 ool-tour-clone-clone-clone-clone-clone-clone-clone-clone-clone-clone
DTSTART:20260127T003000Z
DTEND:20260127T010000Z
END:VEVENT
END:VCALENDAR
