BEGIN:VCALENDAR
VERSION:2.0
PRODID:SchoolNow
CALSCALE:GREGORIAN
BEGIN:VEVENT
UID:71c2756a-b4fe-11f0-8cc9-0affda30926b
DTSTAMP:20251029T193537Z
SUMMARY:Weekly School Tour
URL;VALUE=URI:https://www.kippsocal.org/scholar/calendar/8760098/weekly-sch
 ool-tour-clone-clone-clone-clone-clone-clone-clone-clone-clone
DTSTART:20260120T003000Z
DTEND:20260120T010000Z
END:VEVENT
END:VCALENDAR
