BEGIN:VCALENDAR
VERSION:2.0
PRODID:SchoolNow
CALSCALE:GREGORIAN
BEGIN:VEVENT
UID:677258e6-b4fe-11f0-ae44-0a58a9feac02
DTSTAMP:20251029T193519Z
SUMMARY:Weekly School Tour
URL;VALUE=URI:https://www.kippsocal.org/scholar/calendar/8760097/weekly-sch
 ool-tour-clone-clone-clone-clone-clone-clone-clone-clone
DTSTART:20260113T003000Z
DTEND:20260113T010000Z
END:VEVENT
END:VCALENDAR
