BEGIN:VCALENDAR
VERSION:2.0
PRODID:SchoolNow
CALSCALE:GREGORIAN
BEGIN:VEVENT
UID:5bbbc19a-b4fe-11f0-9269-0a58a9feac02
DTSTAMP:20251029T193500Z
SUMMARY:Weekly School Tour
URL;VALUE=URI:https://www.kippsocal.org/scholar/calendar/8760096/weekly-sch
 ool-tour-clone-clone-clone-clone-clone-clone-clone
DTSTART:20260106T003000Z
DTEND:20260106T010000Z
END:VEVENT
END:VCALENDAR
