BEGIN:VCALENDAR
VERSION:2.0
PRODID:SchoolNow
CALSCALE:GREGORIAN
BEGIN:VEVENT
UID:523d14ac-b4fe-11f0-a08b-02231b95ae21
DTSTAMP:20251029T193444Z
SUMMARY:Weekly School Tour
URL;VALUE=URI:https://www.kippsocal.org/scholar/calendar/8760095/weekly-sch
 ool-tour-clone-clone-clone-clone-clone-clone
DTSTART:20251216T003000Z
DTEND:20251216T010000Z
END:VEVENT
END:VCALENDAR
