BEGIN:VCALENDAR
VERSION:2.0
PRODID:SchoolNow
CALSCALE:GREGORIAN
BEGIN:VEVENT
UID:4825205e-b4fe-11f0-bf25-0a58a9feac02
DTSTAMP:20251029T193427Z
SUMMARY:Weekly School Tour
URL;VALUE=URI:https://www.kippsocal.org/scholar/calendar/8760094/weekly-sch
 ool-tour-clone-clone-clone-clone-clone
DTSTART:20251209T003000Z
DTEND:20251209T010000Z
END:VEVENT
END:VCALENDAR
