BEGIN:VCALENDAR
VERSION:2.0
PRODID:SchoolNow
CALSCALE:GREGORIAN
BEGIN:VEVENT
UID:3ce56d34-b4fe-11f0-a624-0a58a9feac02
DTSTAMP:20251029T193408Z
SUMMARY:Weekly School Tour
URL;VALUE=URI:https://www.kippsocal.org/scholar/calendar/8760093/weekly-sch
 ool-tour-clone-clone-clone-clone
DTSTART:20251202T003000Z
DTEND:20251202T010000Z
END:VEVENT
END:VCALENDAR
