BEGIN:VCALENDAR
VERSION:2.0
PRODID:SchoolNow
CALSCALE:GREGORIAN
BEGIN:VEVENT
UID:32c78d00-b4fe-11f0-aafa-0a58a9feac02
DTSTAMP:20251029T193351Z
SUMMARY:Weekly School Tour
URL;VALUE=URI:https://www.kippsocal.org/scholar/calendar/8760092/weekly-sch
 ool-tour-clone-clone-clone
DTSTART:20251118T003000Z
DTEND:20251118T010000Z
END:VEVENT
END:VCALENDAR
