BEGIN:VCALENDAR
VERSION:2.0
PRODID:SchoolNow
CALSCALE:GREGORIAN
BEGIN:VEVENT
UID:28cde448-b4fe-11f0-bc06-0affe6eaa2ad
DTSTAMP:20251029T193334Z
SUMMARY:Weekly School Tour
URL;VALUE=URI:https://www.kippsocal.org/scholar/calendar/8760091/weekly-sch
 ool-tour-clone-clone
DTSTART:20251111T003000Z
DTEND:20251111T010000Z
END:VEVENT
END:VCALENDAR
