BEGIN:VCALENDAR
VERSION:2.0
PRODID:SchoolNow
CALSCALE:GREGORIAN
BEGIN:VEVENT
UID:1fbfef86-b4fe-11f0-b92d-0a58a9feac02
DTSTAMP:20251029T193319Z
SUMMARY:Weekly School Tour
URL;VALUE=URI:https://www.kippsocal.org/scholar/calendar/8760090/weekly-sch
 ool-tour-clone
DTSTART:20251104T003000Z
DTEND:20251104T010000Z
END:VEVENT
END:VCALENDAR
