BEGIN:VCALENDAR
VERSION:2.0
PRODID:SchoolNow
CALSCALE:GREGORIAN
BEGIN:VEVENT
UID:12b9cd52-b4fe-11f0-abca-0a58a9feac02
DTSTAMP:20251029T193257Z
SUMMARY:Weekly School Tour
URL;VALUE=URI:https://www.kippsocal.org/scholar/calendar/8760089/weekly-sch
 ool-tour-clone-clone-clone-clone-clone-clone-clone-clone-clone
DTSTART:20260126T170000Z
DTEND:20260126T173000Z
END:VEVENT
END:VCALENDAR
