BEGIN:VCALENDAR
VERSION:2.0
PRODID:SchoolNow
CALSCALE:GREGORIAN
BEGIN:VEVENT
UID:0c7cdd3a-b4fe-11f0-a873-0a58a9feac02
DTSTAMP:20251029T193247Z
SUMMARY:Weekly School Tour
URL;VALUE=URI:https://www.kippsocal.org/scholar/calendar/8760088/weekly-sch
 ool-tour-clone-clone-clone-clone-clone-clone-clone-clone
DTSTART:20260119T170000Z
DTEND:20260119T173000Z
END:VEVENT
END:VCALENDAR
