BEGIN:VCALENDAR
VERSION:2.0
PRODID:SchoolNow
CALSCALE:GREGORIAN
BEGIN:VEVENT
UID:04ee8758-b4fe-11f0-af1b-0a58a9feac02
DTSTAMP:20251029T193234Z
SUMMARY:Weekly School Tour
URL;VALUE=URI:https://www.kippsocal.org/scholar/calendar/8760087/weekly-sch
 ool-tour-clone-clone-clone-clone-clone-clone-clone
DTSTART:20260112T170000Z
DTEND:20260112T173000Z
END:VEVENT
END:VCALENDAR
