BEGIN:VCALENDAR
VERSION:2.0
PRODID:SchoolNow
CALSCALE:GREGORIAN
BEGIN:VEVENT
UID:feef0eb8-b4fd-11f0-b751-0a58a9feac02
DTSTAMP:20251029T193224Z
SUMMARY:Weekly School Tour
URL;VALUE=URI:https://www.kippsocal.org/scholar/calendar/8760086/weekly-sch
 ool-tour-clone-clone-clone-clone-clone-clone
DTSTART:20260105T170000Z
DTEND:20260105T173000Z
END:VEVENT
END:VCALENDAR
