BEGIN:VCALENDAR
VERSION:2.0
PRODID:SchoolNow
CALSCALE:GREGORIAN
BEGIN:VEVENT
UID:f40c0c94-b4fd-11f0-a6bb-02d638c68707
DTSTAMP:20251029T193206Z
SUMMARY:Weekly School Tour
URL;VALUE=URI:https://www.kippsocal.org/scholar/calendar/8760085/weekly-sch
 ool-tour-clone-clone-clone-clone-clone
DTSTART:20251215T170000Z
DTEND:20251215T173000Z
END:VEVENT
END:VCALENDAR
