BEGIN:VCALENDAR
VERSION:2.0
PRODID:SchoolNow
CALSCALE:GREGORIAN
BEGIN:VEVENT
UID:daa5337a-b4fd-11f0-9173-0affd3899885
DTSTAMP:20251029T193123Z
SUMMARY:Weekly School Tour
URL;VALUE=URI:https://www.kippsocal.org/scholar/calendar/8760082/weekly-sch
 ool-tour-clone-clone
DTSTART:20251117T170000Z
DTEND:20251117T173000Z
END:VEVENT
END:VCALENDAR
