BEGIN:VCALENDAR
VERSION:2.0
PRODID:SchoolNow
CALSCALE:GREGORIAN
BEGIN:VEVENT
UID:d20a2d74-b4fd-11f0-8562-0affe6eaa2ad
DTSTAMP:20251029T193109Z
SUMMARY:Weekly School Tour
URL;VALUE=URI:https://www.kippsocal.org/scholar/calendar/8760081/weekly-sch
 ool-tour-clone
DTSTART:20251110T170000Z
DTEND:20251110T173000Z
END:VEVENT
END:VCALENDAR
