BEGIN:VCALENDAR
VERSION:2.0
PRODID:SchoolNow
CALSCALE:GREGORIAN
BEGIN:VEVENT
UID:83fa614e-b4fd-11f0-8250-0a58a9feac02
DTSTAMP:20251029T192858Z
SUMMARY:Weekly School Tour
URL;VALUE=URI:https://www.kippsocal.org/scholar/calendar/8760080/weekly-sch
 ool-tour
DTSTART:20251103T170000Z
DTEND:20251103T173000Z
END:VEVENT
END:VCALENDAR
