BEGIN:VCALENDAR
VERSION:2.0
PRODID:SchoolNow
CALSCALE:GREGORIAN
BEGIN:VEVENT
UID:c6f584aa-6d5f-11f0-8111-0eeef5b311df
DTSTAMP:20250730T161057Z
SUMMARY:7th & 8th Grade Family Orientation
URL;VALUE=URI:https://www.kippsocal.org/scholar/calendar/8458345/5th-6th-gr
 ade-family-orientation-clone
DTSTART:20250813T200000Z
DTEND:20250813T220000Z
END:VEVENT
END:VCALENDAR
