BEGIN:VCALENDAR
VERSION:2.0
PRODID:SchoolNow
CALSCALE:GREGORIAN
BEGIN:VEVENT
UID:b77857a0-6d5f-11f0-9042-0a58a9feac02
DTSTAMP:20250730T161031Z
SUMMARY:5th & 6th Grade Family Orientation
URL;VALUE=URI:https://www.kippsocal.org/scholar/calendar/8458344/5th-6th-gr
 ade-family-orientation
DTSTART:20250813T170000Z
DTEND:20250813T190000Z
END:VEVENT
END:VCALENDAR
