BEGIN:VCALENDAR
VERSION:2.0
PRODID:SchoolNow
CALSCALE:GREGORIAN
BEGIN:VEVENT
UID:8b41875c-d2d1-11ef-b599-0afffd83f5cb
DTSTAMP:20250115T000025Z
SUMMARY:Open House
URL;VALUE=URI:https://www.kippsocal.org/scholar/calendar/7317452/open-house
DTSTART:20250228T180000Z
DTEND:20250228T190000Z
END:VEVENT
END:VCALENDAR
