BEGIN:VCALENDAR
VERSION:2.0
PRODID:SchoolNow
CALSCALE:GREGORIAN
BEGIN:VEVENT
UID:c8672bfe-1f09-11ef-87a8-02da975b72d1
DTSTAMP:20240531T045355Z
SUMMARY:Family Orientation: 7th & 8th Grade
URL;VALUE=URI:https://www.kippsocal.org/scholar/calendar/6055104/holiday-no
 -school-day-clone-clone
DTSTART;VALUE=DATE:20240802
DTEND;VALUE=DATE:20240803
END:VEVENT
END:VCALENDAR
