BEGIN:VCALENDAR
VERSION:2.0
PRODID:SchoolNow
CALSCALE:GREGORIAN
BEGIN:VEVENT
UID:af0c5f4e-1f09-11ef-9040-0a58a9feac02
DTSTAMP:20240531T045312Z
SUMMARY:Family Orientation: 5th & 6th Grade
URL;VALUE=URI:https://www.kippsocal.org/scholar/calendar/6055103/holiday-no
 -school-day-clone
DTSTART;VALUE=DATE:20240802
DTEND;VALUE=DATE:20240803
END:VEVENT
END:VCALENDAR
