BEGIN:VCALENDAR
VERSION:2.0
PRODID:SchoolNow
CALSCALE:GREGORIAN
BEGIN:VEVENT
UID:2501d84a-4455-11ee-8072-0a58a9feac02
DTSTAMP:20230826T211137Z
SUMMARY:Spring Break | No School
URL;VALUE=URI:https://www.kippsocal.org/scholar/calendar/4633800/spring-bre
 ak-no-school
DTSTART;VALUE=DATE:20240325
DTEND;VALUE=DATE:20240402
END:VEVENT
END:VCALENDAR
