BEGIN:VCALENDAR
VERSION:2.0
PRODID:SchoolNow
CALSCALE:GREGORIAN
BEGIN:VEVENT
UID:24fc91d2-4455-11ee-aaa3-0a58a9feac02
DTSTAMP:20230826T211137Z
SUMMARY:Holiday | No School Day
URL;VALUE=URI:https://www.kippsocal.org/scholar/calendar/4633795/holiday-no
 -school-day
DTSTART;VALUE=DATE:20231110
DTEND;VALUE=DATE:20231111
END:VEVENT
END:VCALENDAR
