BEGIN:VCALENDAR
VERSION:2.0
PRODID:SchoolNow
CALSCALE:GREGORIAN
BEGIN:VEVENT
UID:3eeaa85e-d6ca-11f0-8577-0a58a9feac02
DTSTAMP:20251211T194737Z
SUMMARY:Open House
URL;VALUE=URI:https://www.kippsocal.org/raices/calendar/8822180/open-house
DTSTART:20251209T180000Z
DTEND:20251209T190000Z
END:VEVENT
END:VCALENDAR
