BEGIN:VCALENDAR
VERSION:2.0
PRODID:SchoolNow
CALSCALE:GREGORIAN
BEGIN:VEVENT
UID:e63bfe2e-c733-11f0-b6cc-0a58a9feac02
DTSTAMP:20251121T234336Z
SUMMARY:Open House
URL;VALUE=URI:https://www.kippsocal.org/raices/calendar/8807690/open-house
DTSTART:20251115T220000Z
DTEND:20251115T230000Z
END:VEVENT
END:VCALENDAR
