BEGIN:VCALENDAR
VERSION:2.0
PRODID:SchoolNow
CALSCALE:GREGORIAN
BEGIN:VEVENT
UID:20bcca8a-6d5f-11f0-a47f-0a58a9feac02
DTSTAMP:20250730T160618Z
SUMMARY:Open Classrooms (All Grades)
URL;VALUE=URI:https://www.kippsocal.org/raices/calendar/8458331/open-classr
 ooms-all-grades
DTSTART:20250815T153000Z
DTEND:20250815T173000Z
END:VEVENT
END:VCALENDAR
