BEGIN:VCALENDAR
VERSION:2.0
PRODID:SchoolNow
CALSCALE:GREGORIAN
BEGIN:VEVENT
UID:06020c5a-6d5f-11f0-9b40-0affca91faff
DTSTAMP:20250730T160533Z
SUMMARY:School Operations Session (Zoom)
URL;VALUE=URI:https://www.kippsocal.org/raices/calendar/8458328/school-oper
 ations-session-zoom
DTSTART:20250808T000000Z
DTEND:20250808T010000Z
END:VEVENT
END:VCALENDAR
