BEGIN:VCALENDAR
VERSION:2.0
PRODID:SchoolNow
CALSCALE:GREGORIAN
BEGIN:VEVENT
UID:e05f0318-6d5e-11f0-bc00-0affea04400d
DTSTAMP:20250730T160439Z
SUMMARY:TK/Kindergarten Family Orientation
URL;VALUE=URI:https://www.kippsocal.org/raices/calendar/8458325/tk-kinderga
 rten-orientation
DTSTART:20250814T230000Z
DTEND:20250815T000000Z
END:VEVENT
END:VCALENDAR
