BEGIN:VCALENDAR
VERSION:2.0
PRODID:SchoolNow
CALSCALE:GREGORIAN
BEGIN:VEVENT
UID:ab49df08-d2cd-11ef-821f-0a58a9feac02
DTSTAMP:20250115T000109Z
SUMMARY:Open House
URL;VALUE=URI:https://www.kippsocal.org/raices/calendar/7317433/open-house
DTSTART:20250125T170000Z
DTEND:20250125T180000Z
END:VEVENT
END:VCALENDAR
