BEGIN:VCALENDAR
VERSION:2.0
PRODID:SchoolNow
CALSCALE:GREGORIAN
BEGIN:VEVENT
UID:79644bc2-1f09-11ef-8f88-0a58a9feac02
DTSTAMP:20240531T045142Z
SUMMARY:New Family Orientation: Instructional
URL;VALUE=URI:https://www.kippsocal.org/raices/calendar/6055102/holiday-no-
 school-day-clone-clone
DTSTART;VALUE=DATE:20240809
DTEND;VALUE=DATE:20240810
END:VEVENT
END:VCALENDAR
