BEGIN:VCALENDAR
VERSION:2.0
PRODID:SchoolNow
CALSCALE:GREGORIAN
BEGIN:VEVENT
UID:395aaf08-1f09-11ef-ae20-0ebf3064dbeb
DTSTAMP:20240625T225458Z
SUMMARY:Family Orientation: Operations & Logistics (Zoom)
LOCATION:Zoom
URL;VALUE=URI:https://www.kippsocal.org/raices/calendar/6055101/holiday-no-
 school-day-clone
DTSTART;VALUE=DATE:20240808
DTEND;VALUE=DATE:20240809
END:VEVENT
END:VCALENDAR
