BEGIN:VCALENDAR
VERSION:2.0
PRODID:SchoolNow
CALSCALE:GREGORIAN
BEGIN:VEVENT
UID:b6616668-5a8b-11eb-ac1f-0257d2b3e207
DTSTAMP:20210203T231853Z
SUMMARY:Spring Break
URL;VALUE=URI:https://www.kippsocal.org/raices/calendar/2527922/spring-brea
 k
DTSTART;VALUE=DATE:20210329
DTEND;VALUE=DATE:20210403
END:VEVENT
END:VCALENDAR
