BEGIN:VCALENDAR
VERSION:2.0
PRODID:SchoolNow
CALSCALE:GREGORIAN
BEGIN:VEVENT
UID:d95db9dc-3fc9-11eb-ab2b-122838aa7b65
DTSTAMP:20201221T193658Z
SUMMARY:Winter Break
URL;VALUE=URI:https://www.kippsocal.org/raices/calendar/2512734/winter-brea
 k
DTSTART;VALUE=DATE:20201221
DTEND;VALUE=DATE:20210109
END:VEVENT
END:VCALENDAR
