BEGIN:VCALENDAR
VERSION:2.0
PRODID:SchoolNow
CALSCALE:GREGORIAN
BEGIN:VEVENT
UID:9097b550-cdf9-11ea-890a-0a2ffb390015
DTSTAMP:20200728T153256Z
SUMMARY:4th Grade orientation
URL;VALUE=URI:https://www.kippsocal.org/raices/calendar/2290655/4th-grade-o
 rientation
DTSTART:20200814T000000Z
DTEND:20200814T013000Z
END:VEVENT
END:VCALENDAR
