BEGIN:VCALENDAR
VERSION:2.0
PRODID:SchoolNow
CALSCALE:GREGORIAN
BEGIN:VEVENT
UID:581daa9a-cdf9-11ea-bc0a-0a0b323d3327
DTSTAMP:20200728T153304Z
SUMMARY:3rd Grade Orientation
URL;VALUE=URI:https://www.kippsocal.org/raices/calendar/2290654/3rd-grade-o
 rientation
DTSTART:20200813T000000Z
DTEND:20200813T013000Z
END:VEVENT
END:VCALENDAR
