BEGIN:VCALENDAR
VERSION:2.0
PRODID:SchoolNow
CALSCALE:GREGORIAN
BEGIN:VEVENT
UID:392cb22a-cdf9-11ea-b9c4-0a0b323d3327
DTSTAMP:20200728T153310Z
SUMMARY:2nd Grade Orientation
URL;VALUE=URI:https://www.kippsocal.org/raices/calendar/2290653/2nd-grade-o
 rientation
DTSTART:20200812T003000Z
DTEND:20200812T013000Z
END:VEVENT
END:VCALENDAR
