BEGIN:VCALENDAR
VERSION:2.0
PRODID:SchoolNow
CALSCALE:GREGORIAN
BEGIN:VEVENT
UID:11b84592-cdf9-11ea-ae4c-0a0b323d3327
DTSTAMP:20200728T153318Z
SUMMARY:1st Grade Orientation
URL;VALUE=URI:https://www.kippsocal.org/raices/calendar/2290652/1st-grade-o
 rientation
DTSTART:20200811T000000Z
DTEND:20200811T013000Z
END:VEVENT
END:VCALENDAR
