BEGIN:VCALENDAR
VERSION:2.0
PRODID:SchoolNow
CALSCALE:GREGORIAN
BEGIN:VEVENT
UID:2561ea08-cc32-11ea-809b-0ae3c0a60f97
DTSTAMP:20200722T171558Z
SUMMARY:First Day of School
URL;VALUE=URI:https://www.kippsocal.org/raices/calendar/2288730/first-day-o
 f-school
DTSTART;VALUE=DATE:20200817
DTEND;VALUE=DATE:20200818
END:VEVENT
END:VCALENDAR
