BEGIN:VCALENDAR
VERSION:2.0
PRODID:SchoolNow
CALSCALE:GREGORIAN
BEGIN:VEVENT
UID:4945b384-536d-11ea-85b7-0a9c4147e16f
DTSTAMP:20200220T195811Z
SUMMARY:1st Enrollment Deadline
URL;VALUE=URI:https://www.kippsocal.org/raices/calendar/2204023/1st-enrollm
 ent-deadline
DTSTART:20200330T075600Z
DTEND:20200330T085600Z
END:VEVENT
END:VCALENDAR
