BEGIN:VCALENDAR
VERSION:2.0
PRODID:SchoolNow
CALSCALE:GREGORIAN
BEGIN:VEVENT
UID:309a7d40-1080-11ea-b5e9-0ad66d7de6ab
DTSTAMP:20191202T162432Z
SUMMARY:KRA Winter Concert
URL;VALUE=URI:https://www.kippsocal.org/raices/calendar/2151711/kra-winter-
 concert
DTSTART;VALUE=DATE:20191220
DTEND;VALUE=DATE:20191221
END:VEVENT
END:VCALENDAR
