BEGIN:VCALENDAR
VERSION:2.0
PRODID:SchoolNow
CALSCALE:GREGORIAN
BEGIN:VEVENT
UID:b508a6fc-107f-11ea-8dec-0a69879fae13
DTSTAMP:20191202T162443Z
SUMMARY:1st Grade Achievement Night
URL;VALUE=URI:https://www.kippsocal.org/raices/calendar/2151710/1st-grade-a
 chievement-night
DTSTART;VALUE=DATE:20191213
DTEND;VALUE=DATE:20191214
END:VEVENT
END:VCALENDAR
