BEGIN:VCALENDAR
VERSION:2.0
PRODID:SchoolNow
CALSCALE:GREGORIAN
BEGIN:VEVENT
UID:8e24741c-107f-11ea-962c-0afec197fbf9
DTSTAMP:20191202T162451Z
SUMMARY:Kinder FT To The Aquarium of The Pacific
URL;VALUE=URI:https://www.kippsocal.org/raices/calendar/2151709/kinder-ft-t
 o-the-aquarium-of-the-pacific
DTSTART;VALUE=DATE:20191212
DTEND;VALUE=DATE:20191213
END:VEVENT
END:VCALENDAR
