BEGIN:VCALENDAR
VERSION:2.0
PRODID:SchoolNow
CALSCALE:GREGORIAN
BEGIN:VEVENT
UID:627b6bcc-107f-11ea-b288-0afec197fbf9
DTSTAMP:20191202T162500Z
SUMMARY:2nd Grade Achievement Night
URL;VALUE=URI:https://www.kippsocal.org/raices/calendar/2151708/2nd-grade-a
 chievement-night
DTSTART;VALUE=DATE:20191211
DTEND;VALUE=DATE:20191212
END:VEVENT
END:VCALENDAR
