BEGIN:VCALENDAR
VERSION:2.0
PRODID:SchoolNow
CALSCALE:GREGORIAN
BEGIN:VEVENT
UID:35fa233c-1074-11ea-97b0-0ad95b4b48e5
DTSTAMP:20191126T181856Z
SUMMARY:2nd/3rd Grade Astronomy Night
URL;VALUE=URI:https://www.kippsocal.org/raices/calendar/2151705/2nd-3rd-gra
 de-astronomy-night
DTSTART;VALUE=DATE:20191206
DTEND;VALUE=DATE:20191207
END:VEVENT
END:VCALENDAR
