BEGIN:VCALENDAR
VERSION:2.0
PRODID:SchoolNow
CALSCALE:GREGORIAN
BEGIN:VEVENT
UID:017f6c70-1074-11ea-b3df-0ad95b4b48e5
DTSTAMP:20191126T174303Z
SUMMARY:Kinder Achievement Night
URL;VALUE=URI:https://www.kippsocal.org/raices/calendar/2151704/kinder-achi
 evement-night
DTSTART;VALUE=DATE:20191205
DTEND;VALUE=DATE:20191206
END:VEVENT
END:VCALENDAR
