BEGIN:VCALENDAR
VERSION:2.0
PRODID:SchoolNow
CALSCALE:GREGORIAN
BEGIN:VEVENT
UID:9422980a-1073-11ea-9ece-0ad95b4b48e5
DTSTAMP:20191126T174255Z
SUMMARY:3rd Grade Achievement Night
URL;VALUE=URI:https://www.kippsocal.org/raices/calendar/2151703/3rd-grade-a
 chievement-night
DTSTART;VALUE=DATE:20191204
DTEND;VALUE=DATE:20191205
END:VEVENT
END:VCALENDAR
