BEGIN:VCALENDAR
VERSION:2.0
PRODID:SchoolNow
CALSCALE:GREGORIAN
BEGIN:VEVENT
UID:7b85aca6-1073-11ea-ab39-0ad95b4b48e5
DTSTAMP:20191126T174246Z
SUMMARY:2nd Grade FT To The Natural History Museum
URL;VALUE=URI:https://www.kippsocal.org/raices/calendar/2151702/2nd-grade-f
 t-to-the-natural-history-museum
DTSTART;VALUE=DATE:20191203
DTEND;VALUE=DATE:20191204
END:VEVENT
END:VCALENDAR
